BEGIN:VCALENDAR
VERSION:2.0
PRODID:-//CAPIC-National - ECPv5.9.1//NONSGML v1.0//EN
CALSCALE:GREGORIAN
METHOD:PUBLISH
X-WR-CALNAME:CAPIC-National
X-ORIGINAL-URL:https://stage.capic.org
X-WR-CALDESC:Events for CAPIC-National
BEGIN:VTIMEZONE
TZID:America/Toronto
BEGIN:DAYLIGHT
TZOFFSETFROM:-0500
TZOFFSETTO:-0400
TZNAME:EDT
DTSTART:20220313T070000
END:DAYLIGHT
BEGIN:STANDARD
TZOFFSETFROM:-0400
TZOFFSETTO:-0500
TZNAME:EST
DTSTART:20221106T060000
END:STANDARD
TZID:America/Vancouver
BEGIN:DAYLIGHT
TZOFFSETFROM:-0800
TZOFFSETTO:-0700
TZNAME:PDT
DTSTART:20220313T100000
END:DAYLIGHT
BEGIN:STANDARD
TZOFFSETFROM:-0700
TZOFFSETTO:-0800
TZNAME:PST
DTSTART:20221106T090000
END:STANDARD
BEGIN:DAYLIGHT
TZOFFSETFROM:-0800
TZOFFSETTO:-0700
TZNAME:PDT
DTSTART:20230312T100000
END:DAYLIGHT
BEGIN:STANDARD
TZOFFSETFROM:-0700
TZOFFSETTO:-0800
TZNAME:PST
DTSTART:20231105T090000
END:STANDARD
TZID:Africa/Abidjan
BEGIN:STANDARD
TZOFFSETFROM:+0000
TZOFFSETTO:+0000
TZNAME:GMT
DTSTART:20230101T000000
END:STANDARD
END:VTIMEZONE
BEGIN:VEVENT
DTSTART;TZID=America/Toronto:20221109T190000
DTEND;TZID=America/Toronto:20221109T220000
DTSTAMP:20260419T222202
CREATED:20221028T015541Z
LAST-MODIFIED:20221028T153852Z
UID:17411-1668020400-1668031200@stage.capic.org
SUMMARY:CAPIC Toronto Pub Night November 2022
DESCRIPTION:image: Riders on the Storm\, Elaine Kilburn \n \nCAPIC Toronto’s Landscape Print Xchange Pub Night\nYou are invited to CAPIC’s Toronto’s November Landscape Print Xchange evening! Come celebrate\, raise a beverage and participate in the well-loved print exchange. \nNovember 9th\, 2022 \nAvling Brewery at 1042 Queen Street East\, Toronto  \nFrom 7 to 10pm. \nBring a print to exchange\, and enjoy some good times with other creatives. The print sizes should be at least 8×10” and in some kind of an envelope or tube so we keep them anonymous. We will number the entries and then people will pick a number to claim their image. After we will display all the images for everyone to see. \nPlease RSVP to help us reserve appropriate space. Confirm your attendance here: https://www.eventbrite.ca/e/capic-torontos-landscape-print-xchange-pub-night-tickets-453478164397
URL:https://stage.capic.org/event/capic-toronto-pub-night-november-2022/
LOCATION:Avling Brewery\, 1042 Queen Street East\, Toronto\, Ontario\, Canada
END:VEVENT
BEGIN:VEVENT
DTSTART;TZID=America/Vancouver:20221205T130000
DTEND;TZID=America/Vancouver:20221205T190000
DTSTAMP:20260419T222202
CREATED:20221205T144556Z
LAST-MODIFIED:20221205T144556Z
UID:17475-1670245200-1670266800@stage.capic.org
SUMMARY:CAPIC Vancouver - Strategy and Portfolio Review w/ Christina Force
DESCRIPTION:CAPIC Vancouver Presents:\n \nVancouver Strategy and Portfolio Review with Christina Force\nJoin Christina Force to map out your 2023 Strategy so you can get paid more to shoot what you love.⁠\n⁠\nChristina is a Photo Consultant and Public Speaker based in Auckland\, New Zealand.⁠ She has 30 years of experience working in the photography industry\, and now spends her time working with top photographers all over the world to help them hone their marketing and approach and get the jobs they love that align with their vision and mission.⁠ We feel lucky to have Christina visiting Vancouver for a couple of days and would love for you to join us to map out your 2023 Strategy.⁠\n⁠\nChristina has 8 spots available for reviews that can be booked via her website. ⁠Move quickly on this one!  \nVancouver Strategy Workshop | Christina Force\n⁠ \nWHO:      Photographers \nWHEN:    Dec 5th\, 2022 – book fast! \nWHAT: \n1pm:        15 minute folio reviews (1 hour) and arrival if not being reviewed⁠ \n2pm:        Christina will take the group through a quick strategy for your marketing in 2023. (45 minutes)⁠ \n3pm:        Ask Christina questions. (1hour)⁠ \n4pm:        Break⁠ \n4.30pm:   15 minute folio reviews (1 hour) ⁠ \n6.00pm:   Join us afterwards for a catch up at a local bar and we’ll continue the convo.⁠ \nWHERE:    Elastic Studios\n                  220 Victoria Dr\, unit 180\, Vancouver ⁠\n \nRSVP: The first 15 people to follow @capicvancouver and @christina.force and then send us their email via PM will be provided a spot for the strategy session.
URL:https://stage.capic.org/event/capic-vancouver-strategy-and-portfolio-review-w-christina-force/
LOCATION:Elastic Studios\, 220 Victoria Drive\, Unit 180\, Vancouver\, British Columbia\, V5L 4C5\, Canada
END:VEVENT
BEGIN:VEVENT
DTSTART;TZID=America/Toronto:20221207T190000
DTEND;TZID=America/Toronto:20221207T210000
DTSTAMP:20260419T222202
CREATED:20221130T030523Z
LAST-MODIFIED:20221130T162402Z
UID:17464-1670439600-1670446800@stage.capic.org
SUMMARY:CAPIC Montréal | Cocktail des photographes
DESCRIPTION:CAPIC Montréal vous invite à une soirée sociale. Une excellente occasion de rencontrer d’autres photographes de votre communauté. \n  \nDe 7 à 9 mercredi le 7 décembre. \nStudio Simonetta  \n2000 rue Notre-Dame Est suite 512 Studio Simonetta\, Montreal \n\n\n\n\n\n\n\n\n\n\n\n\n\n\n\n\nCode d’accès pour le monte charge : *5142020#\n \nStationnement sur la rue\n\n\n\n\n 
URL:https://stage.capic.org/event/capic-montreal-cocktail-des-photographes/
LOCATION:Studio Simonetta\, 2000 rue Notre-Dame Est\, Suite 512\, Montréal\, Québec\, H2K2N3\, Canada
ORGANIZER;CN="CAPIC%20Montreal":MAILTO:capicchapitremontreal@gmail.com
END:VEVENT
BEGIN:VEVENT
DTSTART;TZID=Africa/Abidjan:20230412T190000
DTEND;TZID=Africa/Abidjan:20230412T210000
DTSTAMP:20260419T222202
CREATED:20230406T154425Z
LAST-MODIFIED:20230406T155613Z
UID:17782-1681326000-1681333200@stage.capic.org
SUMMARY:Student Contest and Portfolio Review at the Legendary El Mocambo
DESCRIPTION: \nThis is an Extraordinary Student Event.\n \nBring your camera and portfolio! \n \nStudents will be allowed access to photograph the venue and then enter into a contest with valuable rewards. \n \nIndustry professionals will be available to review your portfolio. \n \nThis event is a unique opportunity to connect with professionals\, photography students\, and many talented individuals in Toronto. It will be an exciting and fun evening for every participant\, please register on Eventbrite:\n \nhttps://www.eventbrite.ca/e/-tickets-597990966077
URL:https://stage.capic.org/event/student-contest-and-portfolio-review-at-the-legendary-el-mocambo/
LOCATION:British Columbia
END:VEVENT
BEGIN:VEVENT
DTSTART;VALUE=DATE:20230607
DTEND;VALUE=DATE:20230703
DTSTAMP:20260419T222202
CREATED:20230318T211727Z
LAST-MODIFIED:20230524T210042Z
UID:17728-1686096000-1688342399@stage.capic.org
SUMMARY:CAPIC Annual Exhibition
DESCRIPTION:
URL:https://stage.capic.org/event/capic-annual-exhibition/
LOCATION:The Todmorden Papermill Gallery\, 67 Pottery Road\, Toronto\, Ontario\, Canada
END:VEVENT
BEGIN:VEVENT
DTSTART;TZID=Africa/Abidjan:20230608T180000
DTEND;TZID=Africa/Abidjan:20230608T220000
DTSTAMP:20260419T222202
CREATED:20230318T211228Z
LAST-MODIFIED:20230531T152322Z
UID:17725-1686247200-1686261600@stage.capic.org
SUMMARY:Opening Night: CAPIC Annual Exhibition
DESCRIPTION:We would like to invite you to the\nCAPIC Exhibition 2023 \nOPENING NIGHT RECEPTION\nJune 8\, 6-10PM\n \n  \nThe Toronto Chapter of the Canadian Association of Professional Image Creators (CAPIC) presents the annual CAPIC Exhibition! The show features three separate CAPIC exhibitions: Xposé\, Double Vision and Rodeo. \n____________________________________________________ \nXposé 2023 \nAn annual fine art photography group exhibition. Curated by Bob Carnie\, this exhibition brings together works by professional photographers from across Canada\, showcasing the talent of CAPIC members and beyond. \nCAPIC Legends \nThe 2023 CAPIC Legends are: Barbara Cole\, Ron Baxter-Smith\, Myron Zabol\, George Simhoni\, and Bob Wigington. One iconic piece from each of the Legends will be showcased in the Xposé exhibition.  \nDouble Vision 2023 \nA competition that pairs participating image creators by random draw and challenges them to create portraits of one another. The completed works are then exhibited side by side as a single submission. \nRodeo 15 \nCAPIC’s annual student competition for image creators. Works will be on display by the top 10 winners from both the illustration category and the photography category. \nSponsored by: B3K Digital\, Vistek\, Imprimo
URL:https://stage.capic.org/event/opening-night-capic-annual-exhibition/
LOCATION:The Todmorden Papermill Gallery\, 67 Pottery Road\, Toronto\, Ontario\, Canada
END:VEVENT
BEGIN:VEVENT
DTSTART;TZID=Africa/Abidjan:20230614T190000
DTEND;TZID=Africa/Abidjan:20230614T220000
DTSTAMP:20260419T222202
CREATED:20230523T203330Z
LAST-MODIFIED:20230527T175218Z
UID:17886-1686769200-1686780000@stage.capic.org
SUMMARY:Montreal - Portfolio review
DESCRIPTION:  \nInscrivez-vous ici! 
URL:https://stage.capic.org/event/montreal-portfolio-review/
LOCATION:Studio Simone\, 2000 rue Notre Dame Est\, Montréal\, Québec\, Canada
ORGANIZER;CN="CAPIC%20Montreal":MAILTO:capicchapitremontreal@gmail.com
END:VEVENT
BEGIN:VEVENT
DTSTART;TZID=America/Vancouver:20230925T190000
DTEND;TZID=America/Vancouver:20230925T210000
DTSTAMP:20260419T222202
CREATED:20230919T010208Z
LAST-MODIFIED:20230919T010528Z
UID:18306-1695668400-1695675600@stage.capic.org
SUMMARY:PORTFOLIO SPEED REVIEW
DESCRIPTION:Tickets are now available for CAPIC’s Portfolio Speed Review! \nThe PSR is a “speed dating” style event where you get to sit one-on-one with art directors\, creative directors and other art buyers. This is a chance to get your face and your work directly in front of the people who hire photographers\, illustrators and digital artists\, to impress\, network\, set up further meetings\, and build your client base. There are only a limited number of tickets available and this event is sure to sell out. Get your ticket now – details below. \nDon’t want to participate in the review but would love to come by and network?  Grab a social ticket! \nTickets at capicvancouver_psr2023.eventbrite.ca \n \n 
URL:https://stage.capic.org/event/portfolio-speed-review/
LOCATION:Elastic Studios\, 220 Victoria Drive\, Unit 180\, Vancouver\, British Columbia\, V5L 4C5\, Canada
END:VEVENT
END:VCALENDAR