BEGIN:VCALENDAR
VERSION:2.0
PRODID:-//CAPIC-National - ECPv5.9.1//NONSGML v1.0//EN
CALSCALE:GREGORIAN
METHOD:PUBLISH
X-WR-CALNAME:CAPIC-National
X-ORIGINAL-URL:https://stage.capic.org
X-WR-CALDESC:Events for CAPIC-National
BEGIN:VTIMEZONE
TZID:America/Toronto
BEGIN:DAYLIGHT
TZOFFSETFROM:-0500
TZOFFSETTO:-0400
TZNAME:EDT
DTSTART:20210314T070000
END:DAYLIGHT
BEGIN:STANDARD
TZOFFSETFROM:-0400
TZOFFSETTO:-0500
TZNAME:EST
DTSTART:20211107T060000
END:STANDARD
END:VTIMEZONE
BEGIN:VEVENT
DTSTART;TZID=America/Toronto:20210908T200000
DTEND;TZID=America/Toronto:20210908T220000
DTSTAMP:20260420T141538
CREATED:20210818T223613Z
LAST-MODIFIED:20210907T213813Z
UID:16729-1631131200-1631138400@stage.capic.org
SUMMARY:CAPIC Toronto Chapter - September 2021 Virtual Xchange & Pub Night
DESCRIPTION:CAPIC Toronto presents\n \n  \nThe CAPIC Toronto Chapter is delighted to welcome you to its monthly Virtual Xchange and Pub Night! This month\, the event will be held Wednesday\, September 8th\, 2021 at 8pm EDT. All CAPIC members and non-members from across Canada are welcome to attend! The event is held via Zoom and is open to the public. Invite your friends and colleagues! Join us for an evening of networking with other professional image creators.  Please see below for calendar and Zoom links. \nCall for Entry – IMAGE OF THE MONTH\nThe CAPIC Toronto Virtual Pub Night includes an image of the month feature! Each month a theme is chosen and attendees are invited to bring an image of theirs to share at the event. The theme for the month is FALL. Choose an image of yours that fits the theme and share it at the event! You might just get selected to be featured on the CAPIC social media feeds. \n  \nPlease download and import the following iCalendar (.ics) files to your calendar system: \nMonthly: https://tinyurl.com/yxaoqppm \n  \nJoin the Zoom Meeting: \nhttps://tinyurl.com/y2fotuww \nMeeting ID: 846 7255 8201 \nPasscode: 256
URL:https://stage.capic.org/event/capic-toronto-chapter-september-2021-virtual-xchange-pub-night/
LOCATION:British Columbia
END:VEVENT
BEGIN:VEVENT
DTSTART;TZID=America/Toronto:20210914T193000
DTEND;TZID=America/Toronto:20210914T203000
DTSTAMP:20260420T141538
CREATED:20210908T191830Z
LAST-MODIFIED:20210908T191830Z
UID:16792-1631647800-1631651400@stage.capic.org
SUMMARY:CAPIC Ça déclenche ! Francis Vachon : le droit d'auteur en photographie
DESCRIPTION:CAPIC Montréal\nVenez rencontrer Francis Vachon\, spécialiste du droit d’auteur en photo ! Vous pourrez poser vos questions en ligne.\n \n\n\n\n \nhttp://francisvachon.com/\n \nBasé à Québec et photographe depuis plus de 15 ans\, Francis Vachon se spécialise dans la photographie de presse (photojournalisme) et la photo corporative et événementielle.\n\n\nDiplômé 2006 du prestigieux programme de photojournalisme du Loyalist College de Belleville (Ontario\, Canada)\, il s’est d’abord distingué en étant le first runner up étudiant de l’Association des Photographes de presse de l’est du Canada (Eastern Canadian News photographers Association) pour la qualité de son portfolio. \nDe retour dans la ville de Québec après un stage au Ottawa Citizen et au Edmonton Sun\, et un contrat au Windsor Star\, il s’est rapidement développé une clientèle importante incluant certains des plus prestigieux journaux canadiens. \nEn 2018\, il a publié deux livres: La face cachée de la photo et En photo et en Affaires \nUn lien Zoom pour la rencontre vous sera envoyé le 14 Septembre\, jour de la diffusion\, à l’adresse courriel indiquée lors de votre commande. \nAchetez votre billet pour l’événement ici : https://www.eventbrite.ca/e/billets-capic-ca-declenche-francis-vachon-le-droit-dauteur-en-photographie-166045313001?fbclid=IwAR2vWxtepvGIEAVlrA7A91UZz8kBbFXyjhGoZkX0k-jb10Jf8RQ1hOBSS8A
URL:https://stage.capic.org/event/capic-ca-declenche-francis-vachon-le-droit-dauteur-en-photographie/
LOCATION:British Columbia
ORGANIZER;CN="CAPIC%20Montreal":MAILTO:capicchapitremontreal@gmail.com
END:VEVENT
END:VCALENDAR